BEGIN:VCALENDAR
VERSION:2.0
PRODID:-//THAI BIC USA เริ่มต้นทำธุรกิจในสหรัฐอเมริกา - ECPv6.15.1.1//NONSGML v1.0//EN
CALSCALE:GREGORIAN
METHOD:PUBLISH
X-ORIGINAL-URL:https://www.thaibicusa.com
X-WR-CALDESC:Events for THAI BIC USA เริ่มต้นทำธุรกิจในสหรัฐอเมริกา
REFRESH-INTERVAL;VALUE=DURATION:PT1H
X-Robots-Tag:noindex
X-PUBLISHED-TTL:PT1H
BEGIN:VTIMEZONE
TZID:America/New_York
BEGIN:DAYLIGHT
TZOFFSETFROM:-0500
TZOFFSETTO:-0400
TZNAME:EDT
DTSTART:20230312T070000
END:DAYLIGHT
BEGIN:STANDARD
TZOFFSETFROM:-0400
TZOFFSETTO:-0500
TZNAME:EST
DTSTART:20231105T060000
END:STANDARD
END:VTIMEZONE
BEGIN:VEVENT
DTSTART;TZID=America/New_York:20230702T100000
DTEND;TZID=America/New_York:20230702T180000
DTSTAMP:20260423T104856
CREATED:20230615T195952Z
LAST-MODIFIED:20230615T195952Z
UID:13939-1688292000-1688320800@www.thaibicusa.com
SUMMARY:Sawasdee DC Thai Festival
DESCRIPTION:สถานเอกอัครราชทูตไทย ณ กรุงวอชิงตัน ขอเชิญชวนผู้ที่สนใจเข้าร่วมงาน Sawasdee DC Thai Festival ที่จะถูกจัดขึ้นในวันอาทิตย์ที่ 2 กรกฎาคม 2566 ที่ National Mall (ระหว่างถนน 3rd – 4th) กรุงวอชิงตัน ดี.ซี. เพื่อเฉลิมฉลอง 190 ปี ความสัมพันธ์ทางการทูตระหว่างประเทศไทยและสหรัฐอเมริกา \n \nในเทศกาลนี้คุณจะได้สัมผัสกับความสนุกสนานจากวัฒนธรรมไทยและอเมริกันในรูปแบบต่างๆ รวมทั้งอาหารและผลไม้ไทยแบบดั้งเดิม รำไทย มวยไทย นวดไทย วงดนตรีแจ๊สจากนิวออร์ลีนส์ นักร้องป๊อปหญิงชาวไทย (แอลลี่ นิติพน) วงดนตรีป๊อป LGBTQ+ ชาวไทย (วง 4Mix) ซุ้มกิจกรรมต่างๆ ตลอดจนนิทรรศการแสดงเรื่องราวทางประวัติศาสตร์และผลิตภัณฑ์ต่างๆ อีกมากมาย \nผู้ที่สนใจสามารถติดตามรายละเอียดของงานได้จาก \nเว็บไซต์: www.sawasdeedcthaifestival.com \nFacebook: https://www.facebook.com/profile.php?id=100093196670261 \nInstagram: sawasdeedc.thaifest
URL:https://www.thaibicusa.com/event/sawasdee-dc-thai-festival/
LOCATION:National Mall (3rd – 4th St.)\, Washington\, D.C.\, United States
CATEGORIES:Festival
ATTACH;FMTTYPE=image/png:https://www.thaibicusa.com/wp-content/uploads/2023/06/sawasdeedc.png
END:VEVENT
END:VCALENDAR